BEGIN:VCALENDAR
VERSION:2.0
PRODID:-//Master Gardeners of Hamilton County - ECPv6.15.20//NONSGML v1.0//EN
CALSCALE:GREGORIAN
METHOD:PUBLISH
X-ORIGINAL-URL:https://mghc.org
X-WR-CALDESC:Events for Master Gardeners of Hamilton County
REFRESH-INTERVAL;VALUE=DURATION:PT1H
X-Robots-Tag:noindex
X-PUBLISHED-TTL:PT1H
BEGIN:VTIMEZONE
TZID:America/New_York
BEGIN:DAYLIGHT
TZOFFSETFROM:-0500
TZOFFSETTO:-0400
TZNAME:EDT
DTSTART:20240310T070000
END:DAYLIGHT
BEGIN:STANDARD
TZOFFSETFROM:-0400
TZOFFSETTO:-0500
TZNAME:EST
DTSTART:20241103T060000
END:STANDARD
BEGIN:DAYLIGHT
TZOFFSETFROM:-0500
TZOFFSETTO:-0400
TZNAME:EDT
DTSTART:20250309T070000
END:DAYLIGHT
BEGIN:STANDARD
TZOFFSETFROM:-0400
TZOFFSETTO:-0500
TZNAME:EST
DTSTART:20251102T060000
END:STANDARD
BEGIN:DAYLIGHT
TZOFFSETFROM:-0500
TZOFFSETTO:-0400
TZNAME:EDT
DTSTART:20260308T070000
END:DAYLIGHT
BEGIN:STANDARD
TZOFFSETFROM:-0400
TZOFFSETTO:-0500
TZNAME:EST
DTSTART:20261101T060000
END:STANDARD
END:VTIMEZONE
BEGIN:VEVENT
DTSTART;TZID=America/New_York:20251011T100000
DTEND;TZID=America/New_York:20251011T160000
DTSTAMP:20260423T190341
CREATED:20250627T024014Z
LAST-MODIFIED:20251007T020900Z
UID:8980-1760176800-1760198400@mghc.org
SUMMARY:2025 Fall Garden Festival!
DESCRIPTION:Join the fun at the Hamilton County Extension Center & Bonny Oaks Arboretum as the Master Gardeners of Hamilton County celebrate Fall! MGHC’s Fall Garden Festival features vendors with plants (trees\, shrubs\, perennials)\, hand-crafted foods\, and nature-related items. Plus Master Gardeners presenting demonstrations\, exhibits\, and fun activities for children. Learn about: Bees\, Bluebirds\, Composting\, Fall Vegetables\, Mulching\, Native Plants & Pollinators\, Rain Barrels\, Raised Beds\, and Tree Care.  Purchase: Rain Barrels\, Grow Buckets\, and Hand Made Crafts.  Also enjoy local food trucks and homemade baked goods for sale. Tickets are $5; Free for children 12 and under. Free parking available. \n\n\n\nCredit: MGHC\n\n\n\n\n\n2025 Fall Festival Map \n\n\n\nTickets\n\n\n\nPrice includes PayPal FeeShow Receipt at Admission \n\n\n\n\n\n  \n\n\n\n Number of Tickets\n\n\n1 Ticket $5.66 USD2 Tickets $11.32 USD3 Tickets $16.98 USD4 Tickets $22.64 USD\n\n\n\n  \n\n\n\n\n\n\n\nRAIN DATE: October 25
URL:https://mghc.org/calendar/2025-fall-garden-festival/
CATEGORIES:Fall Garden Festival
ATTACH;FMTTYPE=image/jpeg:https://mghc.org/wp-content/uploads/2024/07/MGHC-FallFestival_Signs-scaled.jpg
END:VEVENT
BEGIN:VEVENT
DTSTART;TZID=America/New_York:20251018T100000
DTEND;TZID=America/New_York:20251018T120000
DTSTAMP:20260423T190341
CREATED:20251005T214810Z
LAST-MODIFIED:20251005T234258Z
UID:9225-1760781600-1760788800@mghc.org
SUMMARY:3rd Saturday Class: Folklore\, Magic & Medicine -- Plants of Appalachia
DESCRIPTION:Long before modern pharmacies\, people turned to the forest for healing remedies. Appalachia — one of the most biodiverse regions in the United States — has always been rich with plants that provide care and comfort. In this class\, Master Gardener Hannah Lanning will explore how certain plants were once considered essential in these folk practices but are now forgotten or considered weeds today.   \n\n\n\n\n\n\n\nClasses are held in person at the UT/TSU Hamilton County Extension (6183 Adamson Circle\, off Bonny Oaks Drive in Chattanooga). \n\n\n\nTo attend this class\, please register on SignUp HERE \n\n\n\nPlease visit MGHC’s YouTube channel for 3rd Saturday Class videos and other gardening-related presentations.
URL:https://mghc.org/calendar/3rd-saturday-class-medicinal-plants-of-appalachia/
LOCATION:UT/TSU Hamilton County Extension Center\, 6183 Adamson Circle\, Chattanooga\, Tennessee\, 37416\, United States
CATEGORIES:Third Saturday Class
ATTACH;FMTTYPE=image/jpeg:https://mghc.org/wp-content/uploads/2025/10/Appalachia.jpg
END:VEVENT
END:VCALENDAR