BEGIN:VCALENDAR
VERSION:2.0
PRODID:-//Master Gardeners of Hamilton County - ECPv6.15.20//NONSGML v1.0//EN
CALSCALE:GREGORIAN
METHOD:PUBLISH
X-ORIGINAL-URL:https://mghc.org
X-WR-CALDESC:Events for Master Gardeners of Hamilton County
REFRESH-INTERVAL;VALUE=DURATION:PT1H
X-Robots-Tag:noindex
X-PUBLISHED-TTL:PT1H
BEGIN:VTIMEZONE
TZID:America/New_York
BEGIN:DAYLIGHT
TZOFFSETFROM:-0500
TZOFFSETTO:-0400
TZNAME:EDT
DTSTART:20240310T070000
END:DAYLIGHT
BEGIN:STANDARD
TZOFFSETFROM:-0400
TZOFFSETTO:-0500
TZNAME:EST
DTSTART:20241103T060000
END:STANDARD
BEGIN:DAYLIGHT
TZOFFSETFROM:-0500
TZOFFSETTO:-0400
TZNAME:EDT
DTSTART:20250309T070000
END:DAYLIGHT
BEGIN:STANDARD
TZOFFSETFROM:-0400
TZOFFSETTO:-0500
TZNAME:EST
DTSTART:20251102T060000
END:STANDARD
BEGIN:DAYLIGHT
TZOFFSETFROM:-0500
TZOFFSETTO:-0400
TZNAME:EDT
DTSTART:20260308T070000
END:DAYLIGHT
BEGIN:STANDARD
TZOFFSETFROM:-0400
TZOFFSETTO:-0500
TZNAME:EST
DTSTART:20261101T060000
END:STANDARD
END:VTIMEZONE
BEGIN:VEVENT
DTSTART;TZID=America/New_York:20250816T100000
DTEND;TZID=America/New_York:20250816T113000
DTSTAMP:20260423T213947
CREATED:20250802T202602Z
LAST-MODIFIED:20250802T202603Z
UID:9027-1755338400-1755343800@mghc.org
SUMMARY:3rd Saturday Class: Tennessee Smart Yards
DESCRIPTION:Are you a new homeowner? Or just want to give your yard a makeover? Master Gardener Ann Brown will show you how to breathe new life into your landscape through Tennessee Smart Yards\, a free\, self-paced online program to make your yard environmentally-friendly and bursting with life. With economical resources and simple steps\, Tennessee Smart Yards helps both beginning and experienced gardeners create outdoor spaces that are greener\, cleaner\, and kinder to nature. Together\, we can grow landscapes that are beautiful and deeply connected to the life around us! \n\n\n\n\n\n\n\nClasses are held in person at the UT/TSU Hamilton County Extension (6183 Adamson Circle\, off Bonny Oaks Drive in Chattanooga). \n\n\n\nTo attend this class\, please register on SignUp HERE \n\n\n\nPlease visit MGHC’s YouTube channel for 3rd Saturday Class videos and other gardening-related presentations.
URL:https://mghc.org/calendar/3rd-saturday-class-tennessee-smart-yards/
LOCATION:UT-TSU Hamilton County Extension\, 6183 Adamson Circle\, Chattanooga\, Tennessee\, 37416\, United States
CATEGORIES:Third Saturday Class
ATTACH;FMTTYPE=image/png:https://mghc.org/wp-content/uploads/2025/07/TN-Smart-Yards.png
END:VEVENT
END:VCALENDAR