BEGIN:VCALENDAR
VERSION:2.0
PRODID:-//Master Gardeners of Hamilton County - ECPv6.15.20//NONSGML v1.0//EN
CALSCALE:GREGORIAN
METHOD:PUBLISH
X-WR-CALNAME:Master Gardeners of Hamilton County
X-ORIGINAL-URL:https://mghc.org
X-WR-CALDESC:Events for Master Gardeners of Hamilton County
REFRESH-INTERVAL;VALUE=DURATION:PT1H
X-Robots-Tag:noindex
X-PUBLISHED-TTL:PT1H
BEGIN:VTIMEZONE
TZID:America/New_York
BEGIN:DAYLIGHT
TZOFFSETFROM:-0500
TZOFFSETTO:-0400
TZNAME:EDT
DTSTART:20240310T070000
END:DAYLIGHT
BEGIN:STANDARD
TZOFFSETFROM:-0400
TZOFFSETTO:-0500
TZNAME:EST
DTSTART:20241103T060000
END:STANDARD
BEGIN:DAYLIGHT
TZOFFSETFROM:-0500
TZOFFSETTO:-0400
TZNAME:EDT
DTSTART:20250309T070000
END:DAYLIGHT
BEGIN:STANDARD
TZOFFSETFROM:-0400
TZOFFSETTO:-0500
TZNAME:EST
DTSTART:20251102T060000
END:STANDARD
BEGIN:DAYLIGHT
TZOFFSETFROM:-0500
TZOFFSETTO:-0400
TZNAME:EDT
DTSTART:20260308T070000
END:DAYLIGHT
BEGIN:STANDARD
TZOFFSETFROM:-0400
TZOFFSETTO:-0500
TZNAME:EST
DTSTART:20261101T060000
END:STANDARD
END:VTIMEZONE
BEGIN:VEVENT
DTSTART;TZID=America/New_York:20250614T100000
DTEND;TZID=America/New_York:20250614T170000
DTSTAMP:20260424T002019
CREATED:20250520T054544Z
LAST-MODIFIED:20250520T060745Z
UID:8871-1749895200-1749920400@mghc.org
SUMMARY:38th Annual Garden Tour
DESCRIPTION:The Master Gardeners of Hamilton County are pleased to present our 38th Annual Garden Tour! This year we have chosen six unique locations on Signal Mountain and Hixson. These gardens feature inspired\, personalized landscapes created by both long-time gardening enthusiasts and relative newcomers with imaginative approaches. Highlights of this year’s tour include: a garden with many unusual specimen trees and shrubs; another using creative water management design in a compact space; examples of raised bed and container gardening; several with a wide variety of yard art throughout; and a farm devoted to scientifically regenerating soil plus friendly alpacas. Touring these gardens provides the opportunity to experience the unique visions of other gardeners\, sparking ideas for your own garden while enjoying a walk through colorful landscapes. \n\n\n\nThe Tour can be started at any of the gardens\, which can be visited in any order. Tours of the gardens are self-guided\, so feel free to take your time exploring the properties. Parking is on the street or where designated. As most of these are private homes\, we cannot guarantee that all locations are handicapped accessible. We suggest wearing comfortable clothing and appropriate shoes for walking. Home owners and Master Gardeners will be on hand to answer questions. There will also be signs and plant lists for identifying many of the plantings. We hope you enjoy and are inspired by these wonderful outdoor spaces! \n\n\n\nPhoto: N.W. Williams\n\n\n\n2025 Garden Tour Map \n\n\n\n\n\n \n\n\n\nNOTE: Online price includes processing fee \n\n\n\n\n\n  \n  \n  \n    \n      \n        \n        Number of Tickets\n      \n    \n    \n      \n        \n          \n            1 Ticket $21.25 USD\n          \n          \n            2 Tickets $42.00 USD\n          \n          \n            3 Tickets $62.75 USD\n          \n          \n            4 Tickets $83.50 USD
URL:https://mghc.org/calendar/38th-annual-garden-tour/
CATEGORIES:Annual Garden Tour
ATTACH;FMTTYPE=image/jpeg:https://mghc.org/wp-content/uploads/2025/05/2025-GardenTour_Speraw_Gate-Medium.jpeg
END:VEVENT
BEGIN:VEVENT
DTSTART;TZID=America/New_York:20250615T110000
DTEND;TZID=America/New_York:20250615T170000
DTSTAMP:20260424T002019
CREATED:20250520T055845Z
LAST-MODIFIED:20250520T060556Z
UID:8885-1749985200-1750006800@mghc.org
SUMMARY:38th Annual Garden Tour
DESCRIPTION:The Master Gardeners of Hamilton County are pleased to present our 38th Annual Garden Tour! This year we have chosen six unique locations on Signal Mountain and Hixson. These gardens feature inspired\, personalized landscapes created by both long-time gardening enthusiasts and relative newcomers with imaginative approaches. Highlights of this year’s tour include: a garden with many unusual specimen trees and shrubs; another using creative water management design in a compact space; examples of raised bed and container gardening; several with a wide variety of yard art throughout; and a farm devoted to scientifically regenerating soil plus friendly alpacas. Touring these gardens provides the opportunity to experience the unique visions of other gardeners\, sparking ideas for your own garden while enjoying a walk through colorful landscapes. \n\n\n\nThe Tour can be started at any of the gardens\, which can be visited in any order. Tours of the gardens are self-guided\, so feel free to take your time exploring the properties. Parking is on the street or where designated. As most of these are private homes\, we cannot guarantee that all locations are handicapped accessible. We suggest wearing comfortable clothing and appropriate shoes for walking. Home owners and Master Gardeners will be on hand to answer questions. There will also be signs and plant lists for identifying many of the plantings. We hope you enjoy and are inspired by these wonderful outdoor spaces! \n\n\n\nN.W. Williams\n\n\n\n2025 Garden Tour Map \n\n\n\n\n\n \n\n\n\nNOTE: Online price includes processing fee \n\n\n\n\n\n  \n  \n  \n    \n      \n        \n        Number of Tickets\n      \n    \n    \n      \n        \n          \n            1 Ticket $21.25 USD\n          \n          \n            2 Tickets $42.00 USD\n          \n          \n            3 Tickets $62.75 USD\n          \n          \n            4 Tickets $83.50 USD
URL:https://mghc.org/calendar/38th-annual-garden-tour-2/
CATEGORIES:Annual Garden Tour
ATTACH;FMTTYPE=image/jpeg:https://mghc.org/wp-content/uploads/2025/05/2025-GardenTour_Eyssen_Gate-Medium.jpeg
END:VEVENT
BEGIN:VEVENT
DTSTART;TZID=America/New_York:20250621T100000
DTEND;TZID=America/New_York:20250621T113000
DTSTAMP:20260424T002019
CREATED:20250610T155455Z
LAST-MODIFIED:20250610T155456Z
UID:8946-1750500000-1750505400@mghc.org
SUMMARY:3rd Saturday Class: Bees in the Garden
DESCRIPTION:Discover the differences between honey bees and the many other native bees in our gardens with Master Gardener and Master Beekeeper Kendra Ware.  Her talk will also cover the specific plants that encourage these different varieties of bees as well as other pollinators.  In addition\, she will explore the fascinating world of honey bees and explain why they are in danger. \n\n\n\nPhoto Credit: MGHC\n\n\n\nClasses are held in person at the UT/TSU Hamilton County Extension (6183 Adamson Circle\, off Bonny Oaks Drive in Chattanooga). \n\n\n\nTo attend this class\, please register on SignUp HERE \n\n\n\nPlease visit MGHC’s YouTube channel for 3rd Saturday Class videos and other gardening-related presentations.
URL:https://mghc.org/calendar/3rd-saturday-class-bees-in-the-garden/
LOCATION:UT-TSU Hamilton County Extension\, 6183 Adamson Circle\, Chattanooga\, Tennessee\, 37416\, United States
CATEGORIES:Third Saturday Class
ATTACH;FMTTYPE=image/jpeg:https://mghc.org/wp-content/uploads/2025/06/Bee-on-Penta.jpg
END:VEVENT
END:VCALENDAR