BEGIN:VCALENDAR
VERSION:2.0
PRODID:-//Master Gardeners of Hamilton County - ECPv6.15.20//NONSGML v1.0//EN
CALSCALE:GREGORIAN
METHOD:PUBLISH
X-ORIGINAL-URL:https://mghc.org
X-WR-CALDESC:Events for Master Gardeners of Hamilton County
REFRESH-INTERVAL;VALUE=DURATION:PT1H
X-Robots-Tag:noindex
X-PUBLISHED-TTL:PT1H
BEGIN:VTIMEZONE
TZID:America/New_York
BEGIN:DAYLIGHT
TZOFFSETFROM:-0500
TZOFFSETTO:-0400
TZNAME:EDT
DTSTART:20240310T070000
END:DAYLIGHT
BEGIN:STANDARD
TZOFFSETFROM:-0400
TZOFFSETTO:-0500
TZNAME:EST
DTSTART:20241103T060000
END:STANDARD
BEGIN:DAYLIGHT
TZOFFSETFROM:-0500
TZOFFSETTO:-0400
TZNAME:EDT
DTSTART:20250309T070000
END:DAYLIGHT
BEGIN:STANDARD
TZOFFSETFROM:-0400
TZOFFSETTO:-0500
TZNAME:EST
DTSTART:20251102T060000
END:STANDARD
BEGIN:DAYLIGHT
TZOFFSETFROM:-0500
TZOFFSETTO:-0400
TZNAME:EDT
DTSTART:20260308T070000
END:DAYLIGHT
BEGIN:STANDARD
TZOFFSETFROM:-0400
TZOFFSETTO:-0500
TZNAME:EST
DTSTART:20261101T060000
END:STANDARD
END:VTIMEZONE
BEGIN:VEVENT
DTSTART;TZID=America/New_York:20250215T100000
DTEND;TZID=America/New_York:20250215T113000
DTSTAMP:20260424T060001
CREATED:20250201T230006Z
LAST-MODIFIED:20250212T010235Z
UID:8614-1739613600-1739619000@mghc.org
SUMMARY:3rd Saturday Class: Sharpen Your Pruning Skills
DESCRIPTION:Due to unforeseen circumstances\, this class has been cancelled. We apologize for the inconvenience. \n\n\n\nFebruary is a great time to prune many of your trees and shrubs (but not all of them!). Learn basic pruning skills with expert guidance from Master Gardener Dave Bechler. He’ll explain the in’s and out’s\, the do’s and don’ts\, the why’s and why not’s for maintaining the health of your plants and the curb appeal of your yard. If the weather cooperates\, we may go outside for some real life examples (so dress accordingly!). \n\n\n\nPruning Class / Master Gardeners of Hamilton County\n\n\n\nClasses are held in person at the UT/TSU Hamilton County Extension (6183 Adamson Circle\, off Bonny Oaks Drive in Chattanooga). \n\n\n\nTo attend this class\, please register on SignUp HERE \n\n\n\nPlease visit MGHC’s YouTube channel for 3rd Saturday Class videos and other gardening-related presentations.
URL:https://mghc.org/calendar/3rd-saturday-class-sharpen-your-pruning-skills/
LOCATION:UT-TSU Hamilton County Extension\, 6183 Adamson Circle\, Chattanooga\, Tennessee\, 37416\, United States
CATEGORIES:Third Saturday Class
ATTACH;FMTTYPE=image/jpeg:https://mghc.org/wp-content/uploads/2023/02/MG_Pruning-Class_2018.jpg
END:VEVENT
END:VCALENDAR