BEGIN:VCALENDAR
VERSION:2.0
PRODID:-//Master Gardeners of Hamilton County - ECPv6.15.20//NONSGML v1.0//EN
CALSCALE:GREGORIAN
METHOD:PUBLISH
X-ORIGINAL-URL:https://mghc.org
X-WR-CALDESC:Events for Master Gardeners of Hamilton County
REFRESH-INTERVAL;VALUE=DURATION:PT1H
X-Robots-Tag:noindex
X-PUBLISHED-TTL:PT1H
BEGIN:VTIMEZONE
TZID:America/New_York
BEGIN:DAYLIGHT
TZOFFSETFROM:-0500
TZOFFSETTO:-0400
TZNAME:EDT
DTSTART:20230312T070000
END:DAYLIGHT
BEGIN:STANDARD
TZOFFSETFROM:-0400
TZOFFSETTO:-0500
TZNAME:EST
DTSTART:20231105T060000
END:STANDARD
BEGIN:DAYLIGHT
TZOFFSETFROM:-0500
TZOFFSETTO:-0400
TZNAME:EDT
DTSTART:20240310T070000
END:DAYLIGHT
BEGIN:STANDARD
TZOFFSETFROM:-0400
TZOFFSETTO:-0500
TZNAME:EST
DTSTART:20241103T060000
END:STANDARD
BEGIN:DAYLIGHT
TZOFFSETFROM:-0500
TZOFFSETTO:-0400
TZNAME:EDT
DTSTART:20250309T070000
END:DAYLIGHT
BEGIN:STANDARD
TZOFFSETFROM:-0400
TZOFFSETTO:-0500
TZNAME:EST
DTSTART:20251102T060000
END:STANDARD
END:VTIMEZONE
BEGIN:VEVENT
DTSTART;TZID=America/New_York:20240720T100000
DTEND;TZID=America/New_York:20240720T120000
DTSTAMP:20260424T154028
CREATED:20240710T225702Z
LAST-MODIFIED:20240808T013338Z
UID:8222-1721469600-1721476800@mghc.org
SUMMARY:3rd Saturday Class: Time to Sow Cool-Season Crops
DESCRIPTION:While it may seem counter-intuitive to be planting cool-season crops during these hot July days\, this is exactly when it needs to be done in order to harvest yummy produce in late fall and early winter. Many vegetables — beets\, broccoli\, carrots\, radishes\, kale and lettuces — are sweeter when grown in cool weather! Master Gardener Diane Shelly will show you what to do step by step from selecting seeds to starting them in the right conditions\, to transplanting them in outdoor beds or containers. You’ll even create your own little seedling pack to take home and plant outside when the time is right. \n\n\n\nPhoto: Carol Goldfarb\n\n\n\nClasses are held in person at the UT/TSU Hamilton County Extension Center (6183 Adamson Circle\, off Bonny Oaks Drive in Chattanooga). \n\n\n\nTo attend this class in person\, register on SignUp HERE. \n\n\n\nVisit our YouTube channel for more 3rd Saturday Classes and other educational gardening presentations.
URL:https://mghc.org/calendar/3rd-saturday-class-time-to-sow-cool-season-crops/
LOCATION:UT-TSU Hamilton County Extension\, 6183 Adamson Circle\, Chattanooga\, Tennessee\, 37416\, United States
CATEGORIES:Third Saturday Class
ATTACH;FMTTYPE=image/jpeg:https://mghc.org/wp-content/uploads/2023/06/RB_Greens-scaled.jpeg
END:VEVENT
END:VCALENDAR