BEGIN:VCALENDAR
VERSION:2.0
PRODID:-//Master Gardeners of Hamilton County - ECPv6.15.20//NONSGML v1.0//EN
CALSCALE:GREGORIAN
METHOD:PUBLISH
X-WR-CALNAME:Master Gardeners of Hamilton County
X-ORIGINAL-URL:https://mghc.org
X-WR-CALDESC:Events for Master Gardeners of Hamilton County
REFRESH-INTERVAL;VALUE=DURATION:PT1H
X-Robots-Tag:noindex
X-PUBLISHED-TTL:PT1H
BEGIN:VTIMEZONE
TZID:America/New_York
BEGIN:DAYLIGHT
TZOFFSETFROM:-0500
TZOFFSETTO:-0400
TZNAME:EDT
DTSTART:20230312T070000
END:DAYLIGHT
BEGIN:STANDARD
TZOFFSETFROM:-0400
TZOFFSETTO:-0500
TZNAME:EST
DTSTART:20231105T060000
END:STANDARD
BEGIN:DAYLIGHT
TZOFFSETFROM:-0500
TZOFFSETTO:-0400
TZNAME:EDT
DTSTART:20240310T070000
END:DAYLIGHT
BEGIN:STANDARD
TZOFFSETFROM:-0400
TZOFFSETTO:-0500
TZNAME:EST
DTSTART:20241103T060000
END:STANDARD
BEGIN:DAYLIGHT
TZOFFSETFROM:-0500
TZOFFSETTO:-0400
TZNAME:EDT
DTSTART:20250309T070000
END:DAYLIGHT
BEGIN:STANDARD
TZOFFSETFROM:-0400
TZOFFSETTO:-0500
TZNAME:EST
DTSTART:20251102T060000
END:STANDARD
END:VTIMEZONE
BEGIN:VEVENT
DTSTART;TZID=America/New_York:20240105T235900
DTEND;TZID=America/New_York:20240105T235900
DTSTAMP:20260424T235639
CREATED:20231109T035933Z
LAST-MODIFIED:20231109T035933Z
UID:7325-1704499140-1704499140@mghc.org
SUMMARY:2024 Master Gardener Training Program
DESCRIPTION:Applications for the 2024 Master Gardener Class are open!Register by:  January 5\, 2024 \n\n\n\nWho: Anyone with an interest in gardening and teachingDates: February 6 – May 7\, 2024Time: Tuesdays from 10 am – 12 pmWhere: UT Hamilton County Extension Center (6183 Adamson Circle)Cost: $200; $300 for couples sharing materials \n\n\n\nAnyone can become a Master Gardener!  Join us!\n\n\n\nThe Master Gardener certification program requires 40 hours of education\, 40 volunteer hours\, and 8 CEUs (Continuing Education Units). Classes will be held in a hybrid format. This means that participants will be expected to watch lectures online from home anytime before class each week. Then\, the in-person lab on Tuesday mornings will provide hands-on learning to supplement subject matter learned online.  \n\n\n\nApplications are due by January 5\, 2024. Classes fill up quickly so apply soon if you’re interested!  Accepted applicants will be contacted to complete their enrollment and pay tuition.  \n\n\n\nLearn more about the Master Gardener Program and access the application HERE.
URL:https://mghc.org/calendar/2024-master-gardener-training-program/
CATEGORIES:Master Gardener Program
ATTACH;FMTTYPE=image/jpeg:https://mghc.org/wp-content/uploads/2022/12/pam-dent-sys-joy-m-may-2018.jpg
END:VEVENT
END:VCALENDAR