BEGIN:VCALENDAR
VERSION:2.0
PRODID:-//Master Gardeners of Hamilton County - ECPv6.15.20//NONSGML v1.0//EN
CALSCALE:GREGORIAN
METHOD:PUBLISH
X-ORIGINAL-URL:https://mghc.org
X-WR-CALDESC:Events for Master Gardeners of Hamilton County
REFRESH-INTERVAL;VALUE=DURATION:PT1H
X-Robots-Tag:noindex
X-PUBLISHED-TTL:PT1H
BEGIN:VTIMEZONE
TZID:America/New_York
BEGIN:DAYLIGHT
TZOFFSETFROM:-0500
TZOFFSETTO:-0400
TZNAME:EDT
DTSTART:20210314T070000
END:DAYLIGHT
BEGIN:STANDARD
TZOFFSETFROM:-0400
TZOFFSETTO:-0500
TZNAME:EST
DTSTART:20211107T060000
END:STANDARD
BEGIN:DAYLIGHT
TZOFFSETFROM:-0500
TZOFFSETTO:-0400
TZNAME:EDT
DTSTART:20220313T070000
END:DAYLIGHT
BEGIN:STANDARD
TZOFFSETFROM:-0400
TZOFFSETTO:-0500
TZNAME:EST
DTSTART:20221106T060000
END:STANDARD
BEGIN:DAYLIGHT
TZOFFSETFROM:-0500
TZOFFSETTO:-0400
TZNAME:EDT
DTSTART:20230312T070000
END:DAYLIGHT
BEGIN:STANDARD
TZOFFSETFROM:-0400
TZOFFSETTO:-0500
TZNAME:EST
DTSTART:20231105T060000
END:STANDARD
END:VTIMEZONE
BEGIN:VEVENT
DTSTART;TZID=America/New_York:20220716T100000
DTEND;TZID=America/New_York:20220716T120000
DTSTAMP:20260426T000455
CREATED:20220711T020715Z
LAST-MODIFIED:20240710T212721Z
UID:5743-1657965600-1657972800@mghc.org
SUMMARY:3rd Saturday Class: Attracting Beneficial Insects to Your Yard & Garden
DESCRIPTION:Insects are crucial components in our yard and garden ecosystems performing many important functions\, such as aerating the soil\, pollinating blossoms\, and controlling insect and plant pests. Master Gardener Ann Brown will discuss the many different kinds of beneficial insects and lay out strategies to attract these insects to create environmentally friendly yards and gardens. \n\n\n\nTo attend this class in person\, register on SignUp HERE. \n\n\n\nTo attend this class online\, register for Zoom HERE. \n\n\n\n\n\n\n\nHandouts for this class: \n\n\n\nButterfly and Moth Host Plants \n\n\n\nCarpenter Bee Prevention \n\n\n\nNative Trees for Wildlife \n\n\n\nSeven Step Plan to Restore Native Habitat
URL:https://mghc.org/calendar/attracting-beneficial-insects-to-your-yard-and-garden/
CATEGORIES:Third Saturday Class
ATTACH;FMTTYPE=image/jpeg:https://mghc.org/wp-content/uploads/2021/07/bee-e1625855775915.jpg
END:VEVENT
END:VCALENDAR