BEGIN:VCALENDAR
VERSION:2.0
PRODID:-//Master Gardeners of Hamilton County - ECPv6.15.20//NONSGML v1.0//EN
CALSCALE:GREGORIAN
METHOD:PUBLISH
X-WR-CALNAME:Master Gardeners of Hamilton County
X-ORIGINAL-URL:https://mghc.org
X-WR-CALDESC:Events for Master Gardeners of Hamilton County
REFRESH-INTERVAL;VALUE=DURATION:PT1H
X-Robots-Tag:noindex
X-PUBLISHED-TTL:PT1H
BEGIN:VTIMEZONE
TZID:America/New_York
BEGIN:DAYLIGHT
TZOFFSETFROM:-0500
TZOFFSETTO:-0400
TZNAME:EDT
DTSTART:20190310T070000
END:DAYLIGHT
BEGIN:STANDARD
TZOFFSETFROM:-0400
TZOFFSETTO:-0500
TZNAME:EST
DTSTART:20191103T060000
END:STANDARD
BEGIN:DAYLIGHT
TZOFFSETFROM:-0500
TZOFFSETTO:-0400
TZNAME:EDT
DTSTART:20200308T070000
END:DAYLIGHT
BEGIN:STANDARD
TZOFFSETFROM:-0400
TZOFFSETTO:-0500
TZNAME:EST
DTSTART:20201101T060000
END:STANDARD
BEGIN:DAYLIGHT
TZOFFSETFROM:-0500
TZOFFSETTO:-0400
TZNAME:EDT
DTSTART:20210314T070000
END:DAYLIGHT
BEGIN:STANDARD
TZOFFSETFROM:-0400
TZOFFSETTO:-0500
TZNAME:EST
DTSTART:20211107T060000
END:STANDARD
END:VTIMEZONE
BEGIN:VEVENT
DTSTART;TZID=America/New_York:20200815T100000
DTEND;TZID=America/New_York:20200815T120000
DTSTAMP:20260425T124451
CREATED:20200806T124020Z
LAST-MODIFIED:20240710T212932Z
UID:463-1597485600-1597492800@mghc.org
SUMMARY:3rd Saturday Class: Pollinator Gardens Through the Seasons
DESCRIPTION:“Pollinator Gardens through the Seasons” will highlight native plants recommended to sustain pollinators throughout the year. Keystone plant species for Hamilton county will be discussed\, as well as companion plantings that make each season special. In addition\, the talk will cover best practices for maintaining wildlife and pollinator habitats\, such as winter leaves should be left in beds and under trees to benefit our bees\, moths\, butterflies\, and birds. All pictures will be from Ann Brown’s certified pollinator garden. \n\n\n\nHandouts on native plants\, bloom times\, a Monarch Waystation planting guide\, etc. can be downloaded in PDF format and printed from the Wild Ones’ website: https://tnvalleywildones.org/plant-info/how-to-plant-a-native-plant-garden/ \n\n\n\nQuestions\, email Ann at brownw01@yahoo.com. I am more than happy to help. \n\n\n\nEnroll in any of our third Saturday classes by clicking here. \n\n\n\n\n\nbownw01@yahoo.com
URL:https://mghc.org/calendar/august-third-saturday-class-pollinator-gardens-through-the-seasons/
LOCATION:Zoom Video Meeting
CATEGORIES:Third Saturday Class
ATTACH;FMTTYPE=image/jpeg:https://mghc.org/wp-content/uploads/2020/08/native_plant_garden.jpg
END:VEVENT
END:VCALENDAR