BEGIN:VCALENDAR
VERSION:2.0
PRODID:-//Master Gardeners of Hamilton County - ECPv6.15.20//NONSGML v1.0//EN
CALSCALE:GREGORIAN
METHOD:PUBLISH
X-WR-CALNAME:Master Gardeners of Hamilton County
X-ORIGINAL-URL:https://mghc.org
X-WR-CALDESC:Events for Master Gardeners of Hamilton County
REFRESH-INTERVAL;VALUE=DURATION:PT1H
X-Robots-Tag:noindex
X-PUBLISHED-TTL:PT1H
BEGIN:VTIMEZONE
TZID:America/New_York
BEGIN:DAYLIGHT
TZOFFSETFROM:-0500
TZOFFSETTO:-0400
TZNAME:EDT
DTSTART:20250309T070000
END:DAYLIGHT
BEGIN:STANDARD
TZOFFSETFROM:-0400
TZOFFSETTO:-0500
TZNAME:EST
DTSTART:20251102T060000
END:STANDARD
BEGIN:DAYLIGHT
TZOFFSETFROM:-0500
TZOFFSETTO:-0400
TZNAME:EDT
DTSTART:20260308T070000
END:DAYLIGHT
BEGIN:STANDARD
TZOFFSETFROM:-0400
TZOFFSETTO:-0500
TZNAME:EST
DTSTART:20261101T060000
END:STANDARD
BEGIN:DAYLIGHT
TZOFFSETFROM:-0500
TZOFFSETTO:-0400
TZNAME:EDT
DTSTART:20270314T070000
END:DAYLIGHT
BEGIN:STANDARD
TZOFFSETFROM:-0400
TZOFFSETTO:-0500
TZNAME:EST
DTSTART:20271107T060000
END:STANDARD
END:VTIMEZONE
BEGIN:VEVENT
DTSTART;TZID=America/New_York:20260411T100000
DTEND;TZID=America/New_York:20260411T173000
DTSTAMP:20260423T114217
CREATED:20260319T195319Z
LAST-MODIFIED:20260319T202249Z
UID:9678-1775901600-1775928600@mghc.org
SUMMARY:2026 "Master Your Garden Expo"
DESCRIPTION:MGHC’s “Master Your Garden” Expo returns to Camp Jordan for two days on Saturday & Sunday\, April 11th & 12th! Focusing on gardening and the outdoors\, MGHC’s Garden Expo brings together a wide-ranging array of gardening exhibits\, demonstrations\, educational activities\, and vendors of interest to experienced gardeners\, gardening enthusiasts\, and children. More Information \n\n\n\nMGHC “Master Your Garden Expo”\n\n\n\n\n\n\n  \n  \n  \n    \n      \n        \n        MGHC Expo Tickets\n      \n    \n    \n      \n        \n          \n            1 Ticket $10.90 USD\n          \n          \n            2 Tickets $21.25 USD\n          \n          \n            3 Tickets $31.60 USD\n          \n          \n            4 Tickets $42.00 USD
URL:https://mghc.org/calendar/2026-master-your-garden-expo/
LOCATION:Camp Jordan Arena\, 323 Camp Jordan Pkwy\, East Ridge\, Tennessee\, 37412\, United States
CATEGORIES:Annual Garden Expo
ATTACH;FMTTYPE=image/jpeg:https://mghc.org/wp-content/uploads/2023/03/Custom-Landscape-Design-scaled.jpg
END:VEVENT
END:VCALENDAR