BEGIN:VCALENDAR
VERSION:2.0
PRODID:-//Master Gardeners of Hamilton County - ECPv6.15.20//NONSGML v1.0//EN
CALSCALE:GREGORIAN
METHOD:PUBLISH
X-WR-CALNAME:Master Gardeners of Hamilton County
X-ORIGINAL-URL:https://mghc.org
X-WR-CALDESC:Events for Master Gardeners of Hamilton County
REFRESH-INTERVAL;VALUE=DURATION:PT1H
X-Robots-Tag:noindex
X-PUBLISHED-TTL:PT1H
BEGIN:VTIMEZONE
TZID:America/New_York
BEGIN:DAYLIGHT
TZOFFSETFROM:-0500
TZOFFSETTO:-0400
TZNAME:EDT
DTSTART:20240310T070000
END:DAYLIGHT
BEGIN:STANDARD
TZOFFSETFROM:-0400
TZOFFSETTO:-0500
TZNAME:EST
DTSTART:20241103T060000
END:STANDARD
BEGIN:DAYLIGHT
TZOFFSETFROM:-0500
TZOFFSETTO:-0400
TZNAME:EDT
DTSTART:20250309T070000
END:DAYLIGHT
BEGIN:STANDARD
TZOFFSETFROM:-0400
TZOFFSETTO:-0500
TZNAME:EST
DTSTART:20251102T060000
END:STANDARD
BEGIN:DAYLIGHT
TZOFFSETFROM:-0500
TZOFFSETTO:-0400
TZNAME:EDT
DTSTART:20260308T070000
END:DAYLIGHT
BEGIN:STANDARD
TZOFFSETFROM:-0400
TZOFFSETTO:-0500
TZNAME:EST
DTSTART:20261101T060000
END:STANDARD
END:VTIMEZONE
BEGIN:VEVENT
DTSTART;TZID=America/New_York:20250719T100000
DTEND;TZID=America/New_York:20250719T113000
DTSTAMP:20260424T002021
CREATED:20250708T051602Z
LAST-MODIFIED:20250728T011205Z
UID:8996-1752919200-1752924600@mghc.org
SUMMARY:3rd Saturday Class: Basic Landscape Design
DESCRIPTION:Have you wanted to create a beautiful landscape but haven’t been sure where to even start? Master Gardener Hannah Lanning will break down the basic principles of designing a beautiful and practical garden. You’ll learn how to create a master plan along with a budget; how to select the right plants for your yard; and what are the general elements of design to think about when creating a garden. \n\n\n\nHannah Lanning\n\n\n\nClasses are held in person at the UT/TSU Hamilton County Extension (6183 Adamson Circle\, off Bonny Oaks Drive in Chattanooga). \n\n\n\nTo attend this class\, please register on SignUp HERE \n\n\n\nPlease visit MGHC’s YouTube channel for 3rd Saturday Class videos and other gardening-related presentations.
URL:https://mghc.org/calendar/3rd-saturday-class-basic-landscape-design/
LOCATION:UT Extension Office\, 6183 Adamson Cir\, Chattanooga\, Tennessee\, 37419\, United States
CATEGORIES:Third Saturday Class
ATTACH;FMTTYPE=image/jpeg:https://mghc.org/wp-content/uploads/2025/07/Lanning_Design.jpg
END:VEVENT
END:VCALENDAR