BEGIN:VCALENDAR
VERSION:2.0
PRODID:-//Master Gardeners of Hamilton County - ECPv6.15.20//NONSGML v1.0//EN
CALSCALE:GREGORIAN
METHOD:PUBLISH
X-ORIGINAL-URL:https://mghc.org
X-WR-CALDESC:Events for Master Gardeners of Hamilton County
REFRESH-INTERVAL;VALUE=DURATION:PT1H
X-Robots-Tag:noindex
X-PUBLISHED-TTL:PT1H
BEGIN:VTIMEZONE
TZID:America/New_York
BEGIN:DAYLIGHT
TZOFFSETFROM:-0500
TZOFFSETTO:-0400
TZNAME:EDT
DTSTART:20240310T070000
END:DAYLIGHT
BEGIN:STANDARD
TZOFFSETFROM:-0400
TZOFFSETTO:-0500
TZNAME:EST
DTSTART:20241103T060000
END:STANDARD
BEGIN:DAYLIGHT
TZOFFSETFROM:-0500
TZOFFSETTO:-0400
TZNAME:EDT
DTSTART:20250309T070000
END:DAYLIGHT
BEGIN:STANDARD
TZOFFSETFROM:-0400
TZOFFSETTO:-0500
TZNAME:EST
DTSTART:20251102T060000
END:STANDARD
BEGIN:DAYLIGHT
TZOFFSETFROM:-0500
TZOFFSETTO:-0400
TZNAME:EDT
DTSTART:20260308T070000
END:DAYLIGHT
BEGIN:STANDARD
TZOFFSETFROM:-0400
TZOFFSETTO:-0500
TZNAME:EST
DTSTART:20261101T060000
END:STANDARD
END:VTIMEZONE
BEGIN:VEVENT
DTSTART;TZID=America/New_York:20250315T100000
DTEND;TZID=America/New_York:20250315T120000
DTSTAMP:20260424T055322
CREATED:20250306T231806Z
LAST-MODIFIED:20250307T224812Z
UID:8735-1742032800-1742040000@mghc.org
SUMMARY:3rd Saturday Class: Plants Discovered by the Lewis & Clark Expedition of 1804-06
DESCRIPTION:The Lewis and Clark Expedition\, under the command of Captain Meriwether Lewis and Second Lieutenant William Clark\, was commissioned by President Jefferson to explore and map the newly acquired territory in the Louisiana Purchase and to find a practical route across the western half of the continent. A secondary objective was scientific: to study the area’s plants\, animal life\, and geography.  Among their achievements was documenting and preserving over 178 plants new to western science. Master Gardener Carol Davis highlights some of the plants they discovered\, where they were found\, and how they were used by both Native Americans and the Expedition itself during their journey. \n\n\n\n\n\n\n\nClasses are held in person at the UT/TSU Hamilton County Extension (6183 Adamson Circle\, off Bonny Oaks Drive in Chattanooga). \n\n\n\nTo attend this class\, please register on SignUp HERE \n\n\n\nPlease visit MGHC’s YouTube channel for 3rd Saturday Class videos and other gardening-related presentations.
URL:https://mghc.org/calendar/3rd-saturday-class-plants-discovered-by-the-lewis-clark-expedition-of-1804-06/
LOCATION:UT-TSU Hamilton County Extension\, 6183 Adamson Circle\, Chattanooga\, Tennessee\, 37416\, United States
CATEGORIES:Third Saturday Class
ATTACH;FMTTYPE=image/webp:https://mghc.org/wp-content/uploads/2023/06/Route-Lewis-and-Clark-Expedition.webp
END:VEVENT
END:VCALENDAR