BEGIN:VCALENDAR
VERSION:2.0
PRODID:-//Master Gardeners of Hamilton County - ECPv6.15.20//NONSGML v1.0//EN
CALSCALE:GREGORIAN
METHOD:PUBLISH
X-ORIGINAL-URL:https://mghc.org
X-WR-CALDESC:Events for Master Gardeners of Hamilton County
REFRESH-INTERVAL;VALUE=DURATION:PT1H
X-Robots-Tag:noindex
X-PUBLISHED-TTL:PT1H
BEGIN:VTIMEZONE
TZID:America/New_York
BEGIN:DAYLIGHT
TZOFFSETFROM:-0500
TZOFFSETTO:-0400
TZNAME:EDT
DTSTART:20230312T070000
END:DAYLIGHT
BEGIN:STANDARD
TZOFFSETFROM:-0400
TZOFFSETTO:-0500
TZNAME:EST
DTSTART:20231105T060000
END:STANDARD
BEGIN:DAYLIGHT
TZOFFSETFROM:-0500
TZOFFSETTO:-0400
TZNAME:EDT
DTSTART:20240310T070000
END:DAYLIGHT
BEGIN:STANDARD
TZOFFSETFROM:-0400
TZOFFSETTO:-0500
TZNAME:EST
DTSTART:20241103T060000
END:STANDARD
BEGIN:DAYLIGHT
TZOFFSETFROM:-0500
TZOFFSETTO:-0400
TZNAME:EDT
DTSTART:20250309T070000
END:DAYLIGHT
BEGIN:STANDARD
TZOFFSETFROM:-0400
TZOFFSETTO:-0500
TZNAME:EST
DTSTART:20251102T060000
END:STANDARD
END:VTIMEZONE
BEGIN:VEVENT
DTSTART;TZID=America/New_York:20240928T100000
DTEND;TZID=America/New_York:20240928T160000
DTSTAMP:20260424T140848
CREATED:20240910T200405Z
LAST-MODIFIED:20240927T012908Z
UID:8406-1727517600-1727539200@mghc.org
SUMMARY:2024 Fall Garden Festival!
DESCRIPTION:Cancelled due to weather \n\n\n\n\n\nJoin the fun at the Hamilton County Extension Center & Bonny Oaks Arboretum as the Master Gardeners of Hamilton County celebrate Fall! MGHC’s Fall Garden Festival features vendors with plants (trees\, shrubs\, perennials)\, hand-crafted foods\, and nature-related items. Plus Master Gardeners presenting demos\, exhibits\, and fun activities for children. Learn about: Bees\, Bluebirds\, Composting\, Fall Vegetables\, Mulching\, Native Plants & Pollinators\, Rain Barrels\, Raised Beds\, and Tree Care.  Purchase: Rain Barrels\, Grow Buckets\, and Hand Made Crafts.  Also enjoy local food trucks and homemade baked goods for sale. Tickets are $5; Children under 12 are free.  Free parking available. \n\n\n\nCredit: MGHC\n\n\n\nDetails & Tickets
URL:https://mghc.org/calendar/2024-fall-garden-festival/
LOCATION:UT-TSU Extension Hamilton County / Bonny Oaks Arboretum\, 6183 Adamson Circle\, Chattanooga\, Tennessee\, 37416\, United States
CATEGORIES:Fall Garden Festival
ATTACH;FMTTYPE=image/jpeg:https://mghc.org/wp-content/uploads/2024/07/MGHC-FallFestival_Signs-scaled.jpg
END:VEVENT
END:VCALENDAR