BEGIN:VCALENDAR
VERSION:2.0
PRODID:-//Master Gardeners of Hamilton County - ECPv6.15.20//NONSGML v1.0//EN
CALSCALE:GREGORIAN
METHOD:PUBLISH
X-WR-CALNAME:Master Gardeners of Hamilton County
X-ORIGINAL-URL:https://mghc.org
X-WR-CALDESC:Events for Master Gardeners of Hamilton County
REFRESH-INTERVAL;VALUE=DURATION:PT1H
X-Robots-Tag:noindex
X-PUBLISHED-TTL:PT1H
BEGIN:VTIMEZONE
TZID:America/New_York
BEGIN:DAYLIGHT
TZOFFSETFROM:-0500
TZOFFSETTO:-0400
TZNAME:EDT
DTSTART:20230312T070000
END:DAYLIGHT
BEGIN:STANDARD
TZOFFSETFROM:-0400
TZOFFSETTO:-0500
TZNAME:EST
DTSTART:20231105T060000
END:STANDARD
BEGIN:DAYLIGHT
TZOFFSETFROM:-0500
TZOFFSETTO:-0400
TZNAME:EDT
DTSTART:20240310T070000
END:DAYLIGHT
BEGIN:STANDARD
TZOFFSETFROM:-0400
TZOFFSETTO:-0500
TZNAME:EST
DTSTART:20241103T060000
END:STANDARD
BEGIN:DAYLIGHT
TZOFFSETFROM:-0500
TZOFFSETTO:-0400
TZNAME:EDT
DTSTART:20250309T070000
END:DAYLIGHT
BEGIN:STANDARD
TZOFFSETFROM:-0400
TZOFFSETTO:-0500
TZNAME:EST
DTSTART:20251102T060000
END:STANDARD
END:VTIMEZONE
BEGIN:VEVENT
DTSTART;TZID=America/New_York:20240817T100000
DTEND;TZID=America/New_York:20240817T120000
DTSTAMP:20260424T153953
CREATED:20240808T014103Z
LAST-MODIFIED:20240808T014103Z
UID:8307-1723888800-1723896000@mghc.org
SUMMARY:3rd Saturday Class: Your Garden in the Fall
DESCRIPTION:Taking care of your garden doesn’t end in Fall!  For this month’s class\, a panel of Master Gardeners will provide helpful instructions about managing your garden in the fall months and field your questions about fall gardening. Topics include:  \n\n\n\n\nPlanting fall bulbs and dividing perennials\n\n\n\nHandling leaves by leaving them on the ground\n\n\n\nLayering mulches to prepare beds for spring planting\n\n\n\nProtecting the soil over the winter\n\n\n\n\nCredit: Master Gardeners of Hamilton County\n\n\n\nClasses are held in person at the UT/TSU Hamilton County Extension Center (6183 Adamson Circle\, off Bonny Oaks Drive in Chattanooga). \n\n\n\nTo attend this class in person\, register on SignUp HERE. \n\n\n\nVisit our YouTube channel for more 3rd Saturday Classes and other educational gardening presentations.
URL:https://mghc.org/calendar/3rd-saturday-class-your-garden-in-the-fall/
LOCATION:UT-TSU Hamilton County Extension\, 6183 Adamson Circle\, Chattanooga\, Tennessee\, 37416\, United States
CATEGORIES:Third Saturday Class
ATTACH;FMTTYPE=image/jpeg:https://mghc.org/wp-content/uploads/2024/08/AG_Nov_Fall-Bed.jpeg
END:VEVENT
END:VCALENDAR