BEGIN:VCALENDAR
VERSION:2.0
PRODID:-//Master Gardeners of Hamilton County - ECPv6.15.20//NONSGML v1.0//EN
CALSCALE:GREGORIAN
METHOD:PUBLISH
X-WR-CALNAME:Master Gardeners of Hamilton County
X-ORIGINAL-URL:https://mghc.org
X-WR-CALDESC:Events for Master Gardeners of Hamilton County
REFRESH-INTERVAL;VALUE=DURATION:PT1H
X-Robots-Tag:noindex
X-PUBLISHED-TTL:PT1H
BEGIN:VTIMEZONE
TZID:America/New_York
BEGIN:DAYLIGHT
TZOFFSETFROM:-0500
TZOFFSETTO:-0400
TZNAME:EDT
DTSTART:20220313T070000
END:DAYLIGHT
BEGIN:STANDARD
TZOFFSETFROM:-0400
TZOFFSETTO:-0500
TZNAME:EST
DTSTART:20221106T060000
END:STANDARD
BEGIN:DAYLIGHT
TZOFFSETFROM:-0500
TZOFFSETTO:-0400
TZNAME:EDT
DTSTART:20230312T070000
END:DAYLIGHT
BEGIN:STANDARD
TZOFFSETFROM:-0400
TZOFFSETTO:-0500
TZNAME:EST
DTSTART:20231105T060000
END:STANDARD
BEGIN:DAYLIGHT
TZOFFSETFROM:-0500
TZOFFSETTO:-0400
TZNAME:EDT
DTSTART:20240310T070000
END:DAYLIGHT
BEGIN:STANDARD
TZOFFSETFROM:-0400
TZOFFSETTO:-0500
TZNAME:EST
DTSTART:20241103T060000
END:STANDARD
END:VTIMEZONE
BEGIN:VEVENT
DTSTART;TZID=America/New_York:20230930T100000
DTEND;TZID=America/New_York:20230930T160000
DTSTAMP:20260425T063754
CREATED:20230719T022231Z
LAST-MODIFIED:20230929T183749Z
UID:7039-1696068000-1696089600@mghc.org
SUMMARY:2023 Fall Garden Festival
DESCRIPTION:Join the fun at the Hamilton County Extension Center &  Bonny Oaks Arboretum as the Master Gardeners of Hamilton County celebrate Fall! MGHC’s Fall Garden Festival will feature a variety of vendors with plants (trees\, shrubs\, perennials)\, hand-crafted foods\, and nature-related items\, along with Master Gardener demos and exhibits plus fun activities for children.  Learn about: Bees\, Bluebirds\, Composting\, Fall Vegetables\, Grow Buckets\, Herbs\, Mulching\, Native Plants & Pollinators\, Rain Barrels\, Raised Beds\, and Trees.  Purchase: Rain Barrels\, Grow Buckets\, and Yard Art.  There will also be a food truck and homemade baked goods for sale. Tickets are $5\, children under 12 are free.  \n\n\n\nDetails & Tickets
URL:https://mghc.org/calendar/2023-fall-garden-festival/
LOCATION:UT-TSU Extension Hamilton County / Bonny Oaks Arboretum\, 6183 Adamson Circle\, Chattanooga\, Tennessee\, 37416\, United States
CATEGORIES:Fall Garden Festival
ATTACH;FMTTYPE=image/jpeg:https://mghc.org/wp-content/uploads/2022/06/Fall_Festival_Event_Reduced.jpg
END:VEVENT
END:VCALENDAR