BEGIN:VCALENDAR
VERSION:2.0
PRODID:-//Master Gardeners of Hamilton County - ECPv6.15.20//NONSGML v1.0//EN
CALSCALE:GREGORIAN
METHOD:PUBLISH
X-WR-CALNAME:Master Gardeners of Hamilton County
X-ORIGINAL-URL:https://mghc.org
X-WR-CALDESC:Events for Master Gardeners of Hamilton County
REFRESH-INTERVAL;VALUE=DURATION:PT1H
X-Robots-Tag:noindex
X-PUBLISHED-TTL:PT1H
BEGIN:VTIMEZONE
TZID:America/New_York
BEGIN:DAYLIGHT
TZOFFSETFROM:-0500
TZOFFSETTO:-0400
TZNAME:EDT
DTSTART:20220313T070000
END:DAYLIGHT
BEGIN:STANDARD
TZOFFSETFROM:-0400
TZOFFSETTO:-0500
TZNAME:EST
DTSTART:20221106T060000
END:STANDARD
BEGIN:DAYLIGHT
TZOFFSETFROM:-0500
TZOFFSETTO:-0400
TZNAME:EDT
DTSTART:20230312T070000
END:DAYLIGHT
BEGIN:STANDARD
TZOFFSETFROM:-0400
TZOFFSETTO:-0500
TZNAME:EST
DTSTART:20231105T060000
END:STANDARD
BEGIN:DAYLIGHT
TZOFFSETFROM:-0500
TZOFFSETTO:-0400
TZNAME:EDT
DTSTART:20240310T070000
END:DAYLIGHT
BEGIN:STANDARD
TZOFFSETFROM:-0400
TZOFFSETTO:-0500
TZNAME:EST
DTSTART:20241103T060000
END:STANDARD
END:VTIMEZONE
BEGIN:VEVENT
DTSTART;TZID=America/New_York:20230916T100000
DTEND;TZID=America/New_York:20230916T120000
DTSTAMP:20260425T063754
CREATED:20230907T162441Z
LAST-MODIFIED:20240710T212316Z
UID:7103-1694858400-1694865600@mghc.org
SUMMARY:3rd Saturday Class: Acid-Loving Plants
DESCRIPTION:Master Gardener Lee Anderson shares her passion for acid-loving plants such as azaleas\, rhododendrons\, camellias and gardenias.  Her presentation will demonstrate how and where to plant these luscious shrubs for best advantage\, as well as techniques for long-term maintenance to keep them producing the best blooms possible. \n\n\n\n\n\n\n\nClasses are held in person at the J. Merle Crawley Agriculture Service Center (6183 Adamson Circle\, off Bonny Oaks Drive in Chattanooga) or online via Zoom.  \n\n\n\nTo attend this class in person\, register on SignUp HERE. \n\n\n\nTo attend this class online\, register for Zoom HERE. \n\n\n\n If you miss the class\, you can view it later on our Facebook page or visit our YouTube channel for more 3rd Saturday Classes and other educational presentations.
URL:https://mghc.org/calendar/3rd-saturday-class-acid-loving-plants/
LOCATION:UT-TSU Hamilton County Extension\, 6183 Adamson Circle\, Chattanooga\, Tennessee\, 37416\, United States
CATEGORIES:Third Saturday Class
ATTACH;FMTTYPE=image/jpeg:https://mghc.org/wp-content/uploads/2023/09/Borde-Hill-Rhododendron-Garden_KarlQuinney-1.jpeg
END:VEVENT
END:VCALENDAR