BEGIN:VCALENDAR
VERSION:2.0
PRODID:-//Master Gardeners of Hamilton County - ECPv6.15.20//NONSGML v1.0//EN
CALSCALE:GREGORIAN
METHOD:PUBLISH
X-WR-CALNAME:Master Gardeners of Hamilton County
X-ORIGINAL-URL:https://mghc.org
X-WR-CALDESC:Events for Master Gardeners of Hamilton County
REFRESH-INTERVAL;VALUE=DURATION:PT1H
X-Robots-Tag:noindex
X-PUBLISHED-TTL:PT1H
BEGIN:VTIMEZONE
TZID:America/New_York
BEGIN:DAYLIGHT
TZOFFSETFROM:-0500
TZOFFSETTO:-0400
TZNAME:EDT
DTSTART:20220313T070000
END:DAYLIGHT
BEGIN:STANDARD
TZOFFSETFROM:-0400
TZOFFSETTO:-0500
TZNAME:EST
DTSTART:20221106T060000
END:STANDARD
BEGIN:DAYLIGHT
TZOFFSETFROM:-0500
TZOFFSETTO:-0400
TZNAME:EDT
DTSTART:20230312T070000
END:DAYLIGHT
BEGIN:STANDARD
TZOFFSETFROM:-0400
TZOFFSETTO:-0500
TZNAME:EST
DTSTART:20231105T060000
END:STANDARD
BEGIN:DAYLIGHT
TZOFFSETFROM:-0500
TZOFFSETTO:-0400
TZNAME:EDT
DTSTART:20240310T070000
END:DAYLIGHT
BEGIN:STANDARD
TZOFFSETFROM:-0400
TZOFFSETTO:-0500
TZNAME:EST
DTSTART:20241103T060000
END:STANDARD
END:VTIMEZONE
BEGIN:VEVENT
DTSTART;TZID=America/New_York:20230625T110000
DTEND;TZID=America/New_York:20230625T170000
DTSTAMP:20260425T091928
CREATED:20230616T052515Z
LAST-MODIFIED:20230625T214416Z
UID:6902-1687690800-1687712400@mghc.org
SUMMARY:36th Annual Garden Tour
DESCRIPTION:The Master Gardeners of Hamilton County are delighted to present our 36th Annual Garden Tour! This year’s tour features six unique gardens in Brainerd and East Brainerd located around Brainerd Road\, East Brainerd Road\, and Standifer Gap Road\, including five private homes and Audubon Acres Pollinator Gardens. These diverse garden oases highlight the unique visions of the property owners\, featuring landscapes with water features\, stone work\, structures including potting sheds\, fences and gates\, as well as work done to redesign and replant after the 2020 tornado. In addition\, these personal outdoor spaces are filled with a mix of trees\, shrubs\, and massed plantings to encourage pollinators and other wildlife. Our public garden is located within a preserved wilderness that is being developed to expand their pollinator fields and create awareness and appreciation for our natural habitat. \n\n\n\nThe tour can be started at any of the gardens\, which can be visited in any order. Tours of the gardens are self-guided\, so feel free to take your time exploring the properties. Parking is on the street or where designated. We recommend carpooling if possible. As most of these are private homes\, we cannot guarantee that all locations are handicapped accessible. We suggest wearing comfortable clothing and appropriate shoes for walking. Home owners and Master Gardeners will be on hand to answer questions. There will also be signs and plant lists for identifying many of the plantings. We hope you enjoy and are inspired by these wonderful outdoor spaces!” \n\n\n\n\n\n\n\n\n\nFor maps and additional information about the gardens: CLICK HERE \n\n\n\n\n\n\n\n\nSponsored By
URL:https://mghc.org/calendar/36th-annual-garden-tour-2/
CATEGORIES:Annual Garden Tour
ATTACH;FMTTYPE=image/jpeg:https://mghc.org/wp-content/uploads/2023/06/Jobe_Koi-Pond-H.jpg
END:VEVENT
END:VCALENDAR