BEGIN:VCALENDAR
VERSION:2.0
PRODID:-//Master Gardeners of Hamilton County - ECPv6.15.20//NONSGML v1.0//EN
CALSCALE:GREGORIAN
METHOD:PUBLISH
X-WR-CALNAME:Master Gardeners of Hamilton County
X-ORIGINAL-URL:https://mghc.org
X-WR-CALDESC:Events for Master Gardeners of Hamilton County
REFRESH-INTERVAL;VALUE=DURATION:PT1H
X-Robots-Tag:noindex
X-PUBLISHED-TTL:PT1H
BEGIN:VTIMEZONE
TZID:America/New_York
BEGIN:DAYLIGHT
TZOFFSETFROM:-0500
TZOFFSETTO:-0400
TZNAME:EDT
DTSTART:20220313T070000
END:DAYLIGHT
BEGIN:STANDARD
TZOFFSETFROM:-0400
TZOFFSETTO:-0500
TZNAME:EST
DTSTART:20221106T060000
END:STANDARD
BEGIN:DAYLIGHT
TZOFFSETFROM:-0500
TZOFFSETTO:-0400
TZNAME:EDT
DTSTART:20230312T070000
END:DAYLIGHT
BEGIN:STANDARD
TZOFFSETFROM:-0400
TZOFFSETTO:-0500
TZNAME:EST
DTSTART:20231105T060000
END:STANDARD
BEGIN:DAYLIGHT
TZOFFSETFROM:-0500
TZOFFSETTO:-0400
TZNAME:EDT
DTSTART:20240310T070000
END:DAYLIGHT
BEGIN:STANDARD
TZOFFSETFROM:-0400
TZOFFSETTO:-0500
TZNAME:EST
DTSTART:20241103T060000
END:STANDARD
END:VTIMEZONE
BEGIN:VEVENT
DTSTART;TZID=America/New_York:20230318T100000
DTEND;TZID=America/New_York:20230318T120000
DTSTAMP:20260425T145043
CREATED:20230303T210817Z
LAST-MODIFIED:20230303T210817Z
UID:6547-1679133600-1679140800@mghc.org
SUMMARY:3rd Saturday Class: Pollinators & Native Gardens
DESCRIPTION:Learn about the importance of pollinators and their relationship to native plants\, as well as how to sustain them by creating a native plant garden with Sallie Ford\, Master Gardener and volunteer at McCoy Farm & Gardens. \n\n\n\n\n\nClasses are held in person at the J. Merle Crawley Agriculture Service Center (6183 Adamson Circle\, off Bonny Oaks Drive in Chattanooga) or online via Zoom.  \n\n\n\nTo attend this class in person\, register on SignUp HERE. \n\n\n\nTo attend this class online\, register for Zoom HERE. \n\n\n\n If you miss the class\, you can view it later on our Facebook page\, which features several past 3rd Saturday Classes.
URL:https://mghc.org/calendar/3rd-saturday-class-pollinators-native-gardens/
LOCATION:UT Extension Office\, 6183 Adamson Cir\, Chattanooga\, Tennessee\, 37419\, United States
CATEGORIES:Third Saturday Class
ATTACH;FMTTYPE=image/jpeg:https://mghc.org/wp-content/uploads/2023/03/McCoy_Pollinator-Garden.jpeg
END:VEVENT
END:VCALENDAR