BEGIN:VCALENDAR
VERSION:2.0
PRODID:-//Master Gardeners of Hamilton County - ECPv6.15.20//NONSGML v1.0//EN
CALSCALE:GREGORIAN
METHOD:PUBLISH
X-ORIGINAL-URL:https://mghc.org
X-WR-CALDESC:Events for Master Gardeners of Hamilton County
REFRESH-INTERVAL;VALUE=DURATION:PT1H
X-Robots-Tag:noindex
X-PUBLISHED-TTL:PT1H
BEGIN:VTIMEZONE
TZID:America/New_York
BEGIN:DAYLIGHT
TZOFFSETFROM:-0500
TZOFFSETTO:-0400
TZNAME:EDT
DTSTART:20210314T070000
END:DAYLIGHT
BEGIN:STANDARD
TZOFFSETFROM:-0400
TZOFFSETTO:-0500
TZNAME:EST
DTSTART:20211107T060000
END:STANDARD
BEGIN:DAYLIGHT
TZOFFSETFROM:-0500
TZOFFSETTO:-0400
TZNAME:EDT
DTSTART:20220313T070000
END:DAYLIGHT
BEGIN:STANDARD
TZOFFSETFROM:-0400
TZOFFSETTO:-0500
TZNAME:EST
DTSTART:20221106T060000
END:STANDARD
BEGIN:DAYLIGHT
TZOFFSETFROM:-0500
TZOFFSETTO:-0400
TZNAME:EDT
DTSTART:20230312T070000
END:DAYLIGHT
BEGIN:STANDARD
TZOFFSETFROM:-0400
TZOFFSETTO:-0500
TZNAME:EST
DTSTART:20231105T060000
END:STANDARD
END:VTIMEZONE
BEGIN:VEVENT
DTSTART;TZID=America/New_York:20220917T100000
DTEND;TZID=America/New_York:20220917T120000
DTSTAMP:20260425T224458
CREATED:20220903T220724Z
LAST-MODIFIED:20240710T213021Z
UID:6084-1663408800-1663416000@mghc.org
SUMMARY:3rd Saturday Class: Turf Grasses & Fall Lawn Care
DESCRIPTION:Learn about the different types of grasses and how to choose the right one for your landscape from Master Gardener and Turf Grass Expert\, Mike Payne.  He’ll also go over the basic “do’s and don’ts” of Fall lawn care:  proper maintenance of Cool season grasses and how to put your Warm season grasses to bed for the winter. \n\n\n\nTo attend this class in person\, register on SignUp HERE. \n\n\n\nTo attend this class online\, register for Zoom HERE.
URL:https://mghc.org/calendar/3rd-saturday-class-turf-grasses-fall-lawn-care/
LOCATION:Hamilton County Extension Office\, 6183 Adamson Circle\, Chattanooga\, Tennessee\, 37416\, United States
CATEGORIES:Third Saturday Class
ATTACH;FMTTYPE=image/jpeg:https://mghc.org/wp-content/uploads/2022/09/tall-fescue-grass.jpeg
END:VEVENT
END:VCALENDAR