BEGIN:VCALENDAR
VERSION:2.0
PRODID:-//Master Gardeners of Hamilton County - ECPv6.15.20//NONSGML v1.0//EN
CALSCALE:GREGORIAN
METHOD:PUBLISH
X-WR-CALNAME:Master Gardeners of Hamilton County
X-ORIGINAL-URL:https://mghc.org
X-WR-CALDESC:Events for Master Gardeners of Hamilton County
REFRESH-INTERVAL;VALUE=DURATION:PT1H
X-Robots-Tag:noindex
X-PUBLISHED-TTL:PT1H
BEGIN:VTIMEZONE
TZID:America/New_York
BEGIN:DAYLIGHT
TZOFFSETFROM:-0500
TZOFFSETTO:-0400
TZNAME:EDT
DTSTART:20210314T070000
END:DAYLIGHT
BEGIN:STANDARD
TZOFFSETFROM:-0400
TZOFFSETTO:-0500
TZNAME:EST
DTSTART:20211107T060000
END:STANDARD
BEGIN:DAYLIGHT
TZOFFSETFROM:-0500
TZOFFSETTO:-0400
TZNAME:EDT
DTSTART:20220313T070000
END:DAYLIGHT
BEGIN:STANDARD
TZOFFSETFROM:-0400
TZOFFSETTO:-0500
TZNAME:EST
DTSTART:20221106T060000
END:STANDARD
BEGIN:DAYLIGHT
TZOFFSETFROM:-0500
TZOFFSETTO:-0400
TZNAME:EDT
DTSTART:20230312T070000
END:DAYLIGHT
BEGIN:STANDARD
TZOFFSETFROM:-0400
TZOFFSETTO:-0500
TZNAME:EST
DTSTART:20231105T060000
END:STANDARD
END:VTIMEZONE
BEGIN:VEVENT
DTSTART;TZID=America/New_York:20220820T100000
DTEND;TZID=America/New_York:20220820T120000
DTSTAMP:20260426T000436
CREATED:20220728T185815Z
LAST-MODIFIED:20220731T002134Z
UID:5856-1660989600-1660996800@mghc.org
SUMMARY:Reimagine Your Store-Bought Bouquet
DESCRIPTION:Grocery store bouquets are often sold ready-to-use\, but chances are you want to add your own flair to these arrangements. In this class\, Master Gardeners Sarah Monroe and Dorothy McDuffie will teach you how to maximize the effect of a gorgeous store-bought bouquet\, demonstrating flower arranging basics and walking you through creating a dramatic display with grocery store flowers and greenery from the store or your own yard\, as well as how to use your bouquet in a topiary arrangement.  As part of the class\, you may try your hand at building a bouquet and using it in a topiary\, or you can create a small\, compact arrangement using floral foam. \n\n\n\nParticipants who want to create an imaginative arrangement in class should bring two grocery store bouquets\, greenery (from your yard or the store) and clippers or scissors. Zoom attendees can also have on hand a small\, shallow ceramic container and a block of floral foam from the craft store. Optional: ornamental items you have in mind for your floral creation. \n\n\n\nTo attend this class in person\, register on SignUp HERE. \n\n\n\nTo attend this class online\, register for Zoom HERE.
URL:https://mghc.org/calendar/reimagine-your-store-bought-bouquet/
CATEGORIES:Third Saturday Class
ATTACH;FMTTYPE=image/jpeg:https://mghc.org/wp-content/uploads/2022/07/Topiary-2-e1659034445281.jpg
END:VEVENT
END:VCALENDAR