BEGIN:VCALENDAR
VERSION:2.0
PRODID:-//Master Gardeners of Hamilton County - ECPv6.15.20//NONSGML v1.0//EN
CALSCALE:GREGORIAN
METHOD:PUBLISH
X-WR-CALNAME:Master Gardeners of Hamilton County
X-ORIGINAL-URL:https://mghc.org
X-WR-CALDESC:Events for Master Gardeners of Hamilton County
REFRESH-INTERVAL;VALUE=DURATION:PT1H
X-Robots-Tag:noindex
X-PUBLISHED-TTL:PT1H
BEGIN:VTIMEZONE
TZID:America/New_York
BEGIN:DAYLIGHT
TZOFFSETFROM:-0500
TZOFFSETTO:-0400
TZNAME:EDT
DTSTART:20210314T070000
END:DAYLIGHT
BEGIN:STANDARD
TZOFFSETFROM:-0400
TZOFFSETTO:-0500
TZNAME:EST
DTSTART:20211107T060000
END:STANDARD
BEGIN:DAYLIGHT
TZOFFSETFROM:-0500
TZOFFSETTO:-0400
TZNAME:EDT
DTSTART:20220313T070000
END:DAYLIGHT
BEGIN:STANDARD
TZOFFSETFROM:-0400
TZOFFSETTO:-0500
TZNAME:EST
DTSTART:20221106T060000
END:STANDARD
BEGIN:DAYLIGHT
TZOFFSETFROM:-0500
TZOFFSETTO:-0400
TZNAME:EDT
DTSTART:20230312T070000
END:DAYLIGHT
BEGIN:STANDARD
TZOFFSETFROM:-0400
TZOFFSETTO:-0500
TZNAME:EST
DTSTART:20231105T060000
END:STANDARD
END:VTIMEZONE
BEGIN:VEVENT
DTSTART;TZID=America/New_York:20220809T190000
DTEND;TZID=America/New_York:20220809T190000
DTSTAMP:20260426T000432
CREATED:20220802T005658Z
LAST-MODIFIED:20220803T010441Z
UID:5872-1660071600-1660071600@mghc.org
SUMMARY:Film Screening: "My Garden of a Thousand Bees"
DESCRIPTION:Chattanooga State Humanities Auditorium  4501 Amnicola Hwy Campus Map  \n\n\n\nTaking refuge from the coronavirus pandemic\, wildlife filmmaker Martin Dohrn set out to record all the bees he could find in his tiny urban garden. The documentary follows Dohrn during the COVID-19 lock-down of spring and summer 2020\, as he becomes bee obsessed and develops relationships with individual bees. Filming more than 60 species of bees\, from Britain’s largest bumblebees to scissor bees\, which are the size of a mosquito\, Dohrn observes how differences in behavior set different species apart from each other. Eventually\, he gets so close to the bees\, he can identify individuals just by looking at them. \n\n\n\nWebsite: https://www.mygardenofathousandbees.com/ \n\n\n\nThis program will be presented in partnership with the Bee City Lookout Mountain Chapter\, Bee City Chattanooga State Campus Chapter\, the Master Gardeners of Hamilton County\, and the Tennessee Valley Chapter of Wild Ones.
URL:https://mghc.org/calendar/film-screening-my-garden-of-a-thousand-bees/
CATEGORIES:Special Event
ATTACH;FMTTYPE=image/jpeg:https://mghc.org/wp-content/uploads/2022/08/Bee-Film.jpg
END:VEVENT
END:VCALENDAR